BEGIN:VCALENDAR
VERSION:2.0
PRODID:-//Τμήμα Νοσηλευτικής του Πανεπιστημίου Πατρών - ECPv6.15.14//NONSGML v1.0//EN
CALSCALE:GREGORIAN
METHOD:PUBLISH
X-WR-CALNAME:Τμήμα Νοσηλευτικής του Πανεπιστημίου Πατρών
X-ORIGINAL-URL:https://nurs.upatras.gr
X-WR-CALDESC:Events for Τμήμα Νοσηλευτικής του Πανεπιστημίου Πατρών
REFRESH-INTERVAL;VALUE=DURATION:PT1H
X-Robots-Tag:noindex
X-PUBLISHED-TTL:PT1H
BEGIN:VTIMEZONE
TZID:UTC
BEGIN:STANDARD
TZOFFSETFROM:+0000
TZOFFSETTO:+0000
TZNAME:UTC
DTSTART:20220101T000000
END:STANDARD
END:VTIMEZONE
BEGIN:VEVENT
DTSTART;TZID=UTC:20230630T080000
DTEND;TZID=UTC:20230702T170000
DTSTAMP:20260423T132003
CREATED:20230525T103619Z
LAST-MODIFIED:20230525T103619Z
UID:6373-1688112000-1688317200@nurs.upatras.gr
SUMMARY:39ο Διεθνές Διαδικτυακό Συνέδριο-Ινστιτούτο Πολιτισμού\, Δημοκρατίας και Εκπαίδευσης
DESCRIPTION:Ινστιτούτο Πολιτισμού\, \nΔημοκρατίας και Εκπαίδευσης\n\n\n\n \n \n\n\n\n\n\n\n\n\n\nΔιεύθυνση: Αντ. Οικονόμου 8\, ΤΚ 26504\, Άγ. Βασίλειος\, Πάτρα Αχαΐας \n  \nΘέμα: 39ο Διεθνές Διαδικτυακό Συνέδριο \nΤο Ινστιτούτο Πολιτισμού\, Δημοκρατίας και Εκπαίδευσης διοργανώνει το 39ο Διεθνές Διαδικτυακό Συνέδριο Ανθρωπιστικών και Κοινωνικών Επιστημών με θέμα «Εκπαιδευτικοί οργανισμοί μάθησης»\, που θα πραγματοποιηθεί διαδικτυακά από 30 Ιουνίου έως 2 Ιουλίου 2023. \nΣκοπός του 39ου Διεθνούς Συνεδρίου Ανθρωπιστικών και Κοινωνικών Επιστημών είναι η παρουσίαση θεμάτων σχετικά με τις μεθόδους οργάνωσης\, εξέλιξης\, διοίκησης και βελτίωσης των εκπαιδευτικών οργανισμών μάθησης για την αποτελεσματικότερη ανάπτυξη και λειτουργία τους. Επιπλέον είναι η ανάλυση θεμάτων  σχετικά με τη Διαπολιτισμική Εκπαίδευση και τις πρακτικές για τη διδασκαλία της ελληνικής ως δεύτερης ή ξένης γλώσσας. Τέλος\, το συνέδριο θα επικεντρώσει τις εργασίες του στη γλωσσική επιθετικότητα\, τον γλωσσικό ρατσισμό \nΟι βασικοί άξονες του συνεδρίου είναι: \nΟργανισμοί Μάθησης . Αξιολόγηση Εκπαιδευτικών Οργανισμών Μάθησης . Αξιολόγηση Εκπαιδευτικών Οργανισμών Μάθησης Α/βάθμιας και Β/βάθμιας εκπαίδευσης . Οργάνωση και Διοίκηση Εκπαιδευτικών Οργανισμών Μάθησης . Διοίκηση Εκπαιδευτικών Οργανισμών Μάθησης και Διαπολιτισμικότητα .  Ηγεσία και Οργανωτικό Κλίμα \nΤο συνέδριο θα πραγματοποιηθεί διαδικτυακά μέσω Zoom και θα μεταδοθεί ζωντανά στο κανάλι του Ι.ΠΟ.Δ.Ε. στο Youtube: ipode gr για ελεύθερη παρακολούθηση. \n  \nΟ Πρόεδρος της Οργανωτικής Επιτροπής \nΠαντελής Γεωργογιάννης \nτ. Καθηγητής Π.Τ.Δ.Ε. Πανεπιστημίου Πατρών \nΤηλέφωνο επικοινωνίας: 2610993855 \nΙστοσελίδα: http://ipode.gr/39conferenc \ne-mail:     synedria@ipode.gr
URL:https://nurs.upatras.gr/event/39%ce%bf-%ce%b4%ce%b9%ce%b5%ce%b8%ce%bd%ce%ad%cf%82-%ce%b4%ce%b9%ce%b1%ce%b4%ce%b9%ce%ba%cf%84%cf%85%ce%b1%ce%ba%cf%8c-%cf%83%cf%85%ce%bd%ce%ad%ce%b4%cf%81%ce%b9%ce%bf-%ce%b9%ce%bd%cf%83%cf%84%ce%b9-2/
CATEGORIES:Συνέδρια - Σεμινάρια
END:VEVENT
END:VCALENDAR