BEGIN:VCALENDAR
VERSION:2.0
PRODID:-//Τμήμα Νοσηλευτικής του Πανεπιστημίου Πατρών - ECPv6.15.14//NONSGML v1.0//EN
CALSCALE:GREGORIAN
METHOD:PUBLISH
X-WR-CALNAME:Τμήμα Νοσηλευτικής του Πανεπιστημίου Πατρών
X-ORIGINAL-URL:https://nurs.upatras.gr
X-WR-CALDESC:Events for Τμήμα Νοσηλευτικής του Πανεπιστημίου Πατρών
REFRESH-INTERVAL;VALUE=DURATION:PT1H
X-Robots-Tag:noindex
X-PUBLISHED-TTL:PT1H
BEGIN:VTIMEZONE
TZID:UTC
BEGIN:STANDARD
TZOFFSETFROM:+0000
TZOFFSETTO:+0000
TZNAME:UTC
DTSTART:20250101T000000
END:STANDARD
END:VTIMEZONE
BEGIN:VEVENT
DTSTART;TZID=UTC:20260319T000000
DTEND;TZID=UTC:20260329T000000
DTSTAMP:20260424T034437
CREATED:20260319T110937Z
LAST-MODIFIED:20260319T111329Z
UID:33159-1773878400-1774742400@nurs.upatras.gr
SUMMARY:ΔΗΛΩΣΗ ΣΥΜΜΕΤΟΧΗΣ ΦΟΙΤΗΤΩΝ ΝΟΣΗΛΕΥΤΙΚΗΣ ΣΕ ΒΙΩΜΑΤΙΚΟ ΚΛΙΝΙΚΟ ΣΕΜΙΝΑΡΙΟ-ΠΡΟΘΕΣΜΙΑ-ΔΙΑΔΙΚΑΣΙΑ
DESCRIPTION:Η ομάδα medsCAN Πάτρας (Medical Students Against Child Abuse and Neglect)\, αποτελούμενη από φοιτητές Ιατρικής και Νοσηλευτικής\, διοργανώνει ένα βιωματικό κλινικό σεμινάριο με θέμα τη διαχείριση ύποπτων περιστατικών παιδικής κακοποίησης και παραμέλησης στα Τμήματα Επειγόντων Περιστατικών (ΤΕΠ). \nΣτόχος του σεμιναρίου είναι η εκπαίδευση φοιτητών επαγγελμάτων υγείας στην αναγνώριση και την αντιμετώπιση τέτοιων περιστατικών\, μέσα από διαδραστική συμμετοχή. \n Το σεμινάριο απευθύνεται αποκλειστικά σε φοιτητές Νοσηλευτικής\n Μέγιστος αριθμός συμμετεχόντων: 25 άτομα (θα δοθεί προτεραιότητα σε τελειόφοιτους)\n Διάρκεια: περίπου 3 ώρες\n Περιλαμβάνει κεντρική παρουσίαση και εργασία σε μικρές ομάδες \nΟι ημερομηνίες διεξαγωγής θα είναι  τέλη Μαρτίου ή αρχές Απριλίου \nΓια εκδήλωση ενδιαφέροντος/δήλωση συμμετοχής\, παρακαλούνται οι φοιτητές να αποστείλουν email στη Γραμματεία Νοσηλευτικής (nursingsecr@upatras.gr) από την \n          Πέμπτη 19/03/2026 έως και Κυριακή 29/03/2026 με θέμα : \nΑΙΤΗΣΗ ΣΥΜΜΕΤΟΧΗΣ ΣΤΟ ΚΛΙΝΙΚΟ ΣΕΜΙΝΑΡΙΟ ΤΗΣ medsCAN ΠΑΤΡΑΣ \nκαι στο email να αναγράφουν  ονοματεπώνυμο\, αριθμό μητρώου\, εξάμηνο φοίτησης\, τηλέφωνο και email τους \n\nΜε εκτίμηση\,\nΟ Πρόεδρος του Τμήματος Νοσηλευτικής Πανεπιστημίου Πατρών \nΤΖΕΝΑΛΗΣ ΑΝΑΣΤΑΣΙΟΣ
URL:https://nurs.upatras.gr/event/%ce%b4%ce%b7%ce%bb%cf%89%cf%83%ce%b7-%cf%83%cf%85%ce%bc%ce%bc%ce%b5%cf%84%ce%bf%cf%87%ce%b7%cf%83-%cf%86%ce%bf%ce%b9%cf%84%ce%b7%cf%84%cf%89%ce%bd-%ce%bd%ce%bf%cf%83%ce%b7%ce%bb%ce%b5%cf%85%cf%84/
CATEGORIES:Συνέδρια - Σεμινάρια
END:VEVENT
BEGIN:VEVENT
DTSTART;TZID=UTC:20260323T000000
DTEND;TZID=UTC:20260329T000000
DTSTAMP:20260424T034437
CREATED:20260323T061753Z
LAST-MODIFIED:20260323T061824Z
UID:33179-1774224000-1774742400@nurs.upatras.gr
SUMMARY:ΔΗΛΩΣΗ ΣΥΜΜΕΤΟΧΗΣ ΣΤΟ  2ο ΕΑΡΙΝΟ ΤΟΥΡΝΟΥΑ ΑΝΤΙΣΦΑΙΡΙΣΗΣ ΠΑΝΕΠΙΣΤΗΜΙΟΥ ΠΑΤΡΩΝ-ΠΡΟΘΕΣΜΙΑ ΕΩΣ ΚΥΡΙΑΚΗ 29/03/2026
DESCRIPTION:Το Πανεπιστημιακό Γυμναστήριο Πατρών διοργανώνει εαρινό τουρνουά Αντισφαίρισης  2026 και προσκαλεί όλα τα μέλη της Πανεπιστημιακής Κοινότητας να συμμετέχουν (Φοιτητές\, Φοιτήτριες\, Διδακτικό και Διοικητικό προσωπικό). \nΘα υπάρξουν ξεχωριστές κατηγορίες για ατομικό ανδρών και ατομικό γυναικών και ξεχωριστές επίσης κατηγορίες για τον φοιτητικό πληθυσμό. Επιπλέον ταμπλώ θα υπάρχουν από κοινού για διδακτικό και διοικητικό προσωπικό. \nΑπαραίτητη προϋπόθεση συμμετοχής η  κατοχή κάρτας μέλους Πανεπιστημιακού Γυμναστηρίου. \nΌλοι οι αγώνες θα πραγματοποιούνται στα γήπεδα αντισφαίρισης στο Πανεπιστημιακό Γυμναστήριο\, Πανεπιστημιούπολη\, Ρίο \nΔηλώσεις συμμετοχής  ως την Κυριακή 29 Μαρτίου 2026  στο mail του  Πανεπιστημιακού Γυμναστηρίου  usport@upatras.gr  με θέμα: «Δήλωση συμμετοχής στο 2ο Εαρινό Τουρνουά Αντισφαίρισης Πανεπιστημίου Πατρών»\, καταγράφοντας στο ίδιο e-mail και τα στοιχεία σας (Ονοματεπώνυμο\, ιδιότητα\, τηλέφωνο). \nΠληροφορίες\, υπεύθυνη διοργάνωσης: Μαρία Μπισμπίκη\, αποσπασμένη καθηγήτρια Φυσικής Αγωγής στο Πανεπιστημιακό Γυμναστήριο\, τηλ.: 2610997755\, 6948060024 \nΑπό το Πανεπιστημιακό Γυμναστήριο
URL:https://nurs.upatras.gr/event/%ce%b4%ce%b7%ce%bb%cf%89%cf%83%ce%b7-%cf%83%cf%85%ce%bc%ce%bc%ce%b5%cf%84%ce%bf%cf%87%ce%b7%cf%83-%cf%83%cf%84%ce%bf-2%ce%bf-%ce%b5%ce%b1%cf%81%ce%b9%ce%bd%ce%bf-%cf%84%ce%bf%cf%85%cf%81%ce%bd%ce%bf/
CATEGORIES:Εκδηλώσεις Τμήματος
END:VEVENT
END:VCALENDAR