BEGIN:VCALENDAR
VERSION:2.0
PRODID:-//Τμήμα Νοσηλευτικής του Πανεπιστημίου Πατρών - ECPv6.15.14//NONSGML v1.0//EN
CALSCALE:GREGORIAN
METHOD:PUBLISH
X-WR-CALNAME:Τμήμα Νοσηλευτικής του Πανεπιστημίου Πατρών
X-ORIGINAL-URL:https://nurs.upatras.gr
X-WR-CALDESC:Events for Τμήμα Νοσηλευτικής του Πανεπιστημίου Πατρών
REFRESH-INTERVAL;VALUE=DURATION:PT1H
X-Robots-Tag:noindex
X-PUBLISHED-TTL:PT1H
BEGIN:VTIMEZONE
TZID:UTC
BEGIN:STANDARD
TZOFFSETFROM:+0000
TZOFFSETTO:+0000
TZNAME:UTC
DTSTART:20240101T000000
END:STANDARD
END:VTIMEZONE
BEGIN:VEVENT
DTSTART;TZID=UTC:20251216T130000
DTEND;TZID=UTC:20251216T153000
DTSTAMP:20260424T061757
CREATED:20251208T122405Z
LAST-MODIFIED:20251208T122416Z
UID:32224-1765890000-1765899000@nurs.upatras.gr
SUMMARY:ΣΕΜΙΝΑΡΙΟ: «ΣΥΝΤΑΞΗ ΒΙΟΓΡΑΦΙΚΟΥ ΣΗΜΕΙΩΜΑΤΟΣ & ΣΥΝΟΔΕΥΤΙΚΗΣ ΕΠΙΣΤΟΛΗΣ - ΠΡΟΕΤΟΙΜΑΣΙΑ ΓΙΑ ΤΗ ΔΙΑΔΙΚΑΣΙΑ ΤΩΝ ΣΥΝΕΝΤΕΥΞΕΩΝ»
DESCRIPTION:Στο πλαίσιο της Πράξης «Υπηρεσίες Υποστήριξης Φοιτητών του Πανεπιστημίου Πατρών στην ένταξή τους στην αγορά εργασίας» με Κωδικό ΟΠΣ 6018184 της Δράσης του Προγράμματος «Ανθρώπινο Δυναμικό και Κοινωνική Συνοχή 2021-2027»\, το Γραφείο Διασύνδεσης & Επιχειρηματικότητας\, της Μονάδας Υποστήριξης Φοιτητών (Μ.Υ.Φ.)\, του Πανεπιστημίου Πατρών\, θα υλοποιήσει Σεμινάριο με θέμα: \n«Σύνταξη Βιογραφικού Σημειώματος & Συνοδευτικής Επιστολής / Προετοιμασία για τη διαδικασία των Συνεντεύξεων». \nΤο Σεμινάριο θα πραγματοποιηθεί την Τρίτη 16 Δεκεμβρίου 2025 και ώρα 13.00–15.30\, στο Αμφιθέατρο ΑΠ1 (Συγκρότημα αμφιθεάτρων της Πολυτεχνικής Σχολής) του Πανεπιστημίου Πατρών. \nΤο Σεμινάριο απευθύνεται σε φοιτητές\, τελειόφοιτους και απόφοιτους του Πανεπιστημίου Πατρών και έχει ως στόχο να τους προσφέρει ενημέρωση για τη δομή και τεχνικές για τη σύνταξη ενός σωστά δομημένου Βιογραφικού Σημειώματος και Συνοδευτικής Επιστολής\, καθώς και πρακτικές συμβουλές για τη διαδικασία των Συνεντεύξεων\, που μπορούν να συμβάλλουν στην καλύτερη προετοιμασία και διεκδίκηση ευκαιριών για επαγγελματικές προοπτικές. \nΣτο Σεμινάριο θα συμμετάσχουν ως ομιλητές/ομιλήτριες: \n\nΚωνσταντίνα Αγγελοπούλου και Πηνελόπη Βουγιουκλάκη\, Σύμβουλοι Σταδιοδρομίας και Επαγγελματικού Προσανατολισμού\, Γραφείο Διασύνδεσης & Επιχειρηματικότητας Πανεπιστημίου Πατρών με θέμα: «Πλήρης οδηγός δημιουργίας Βιογραφικού Σημειώματος»\nΣπύρος Χέλμης\, HR Director Greece Power Factors με θέμα: «Τι Αναζητούν οι Εργοδότες;»\nΣίσσυ Ζαπάντη\, HR Business Partner Αθηναϊκής Ζυθοποιίας (Εργοστάσιο Πάτρας) με θέμα: «Καν’ το να ξεχωρίζει: Βιογραφικό και Συνέντευξη».\n\nΓια περισσότερες πληροφορίες και εγγραφή στο σεμινάριο απαιτείται να είστε χρήστης της ιστοσελίδας μας. Ακολουθήστε τον σύνδεσμο: \nhttps://career.upatras.gr/register/cv_interview_16122025 \nΕπιστημονικός Υπεύθυνος Γραφείου Διασύνδεσης και Επιχειρηματικότητας: \nΠαρασκευάς Γεωργίου\, Επίκουρος Καθηγητής\, email: p.georgiou@upatras.gr \n  \n«Με τη συγχρηματοδότηση της Ευρωπαϊκής Ένωσης» και το Πρόγραμμα «Ανθρώπινο Δυναμικό και Κοινωνική Συνοχή». \n  \n  \n  \n  \n\n— \n\n\n\n\n\n\n\n\n\n\n\n\n\n   \n     \n\n\n\n   Γραφείο Διασύνδεσης & Επιχειρηματικότητας\n \n  Μονάδα Υποστήριξης Φοιτητών  | Πανεπιστήμιο Πατρών \n   Κτίριο Α\, Ισόγειο\, Πανεπιστημιούπολη\, 26504\, Ρίο\, Αχαΐα\nΤηλ.: +30 2610 969637
URL:https://nurs.upatras.gr/event/%cf%83%ce%b5%ce%bc%ce%b9%ce%bd%ce%b1%cf%81%ce%b9%ce%bf-%cf%83%cf%85%ce%bd%cf%84%ce%b1%ce%be%ce%b7-%ce%b2%ce%b9%ce%bf%ce%b3%cf%81%ce%b1%cf%86%ce%b9%ce%ba%ce%bf%cf%85-%cf%83%ce%b7%ce%bc%ce%b5/
CATEGORIES:Συνέδρια - Σεμινάρια
END:VEVENT
BEGIN:VEVENT
DTSTART;TZID=UTC:20251216T180000
DTEND;TZID=UTC:20251216T190000
DTSTAMP:20260424T061757
CREATED:20251215T065633Z
LAST-MODIFIED:20251215T070039Z
UID:32271-1765908000-1765911600@nurs.upatras.gr
SUMMARY:ΔΙΑΔΙΚΤΥΑΚΟ ΣΕΜΙΝΑΡΙΟ: «ΕΝΑ ΠΑΝΕΠΙΣΤΗΜΙΟ ΓΙΑ ΟΛΟΥΣ: ΤΕΧΝΗΤΗ ΝΟΗΜΟΣΥΝΗ\, ΚΟΙΝΩΝΙΚΟΠΟΙΗΣΗ ΚΑΙ ΠΡΟΣΒΑΣΙΜΟΤΗΤΑ ΣΤΗ ΝΕΑ ΕΠΟΧΗ ΜΑΘΗΣΗΣ»
DESCRIPTION:Η Μονάδα Ισότιμης Πρόσβασης της Διεύθυνσης Φοιτητικής Μέριμνας του Πανεπιστημίου Πατρών στο πλαίσιο της Πράξης: «Υποστήριξη παρεμβάσεων ισότιμης πρόσβασης ΑμεΑ και άλλες ειδικές εκπαιδευτικές ανάγκες στο Πανεπιστήμιο Πατρών» με Φ.Κ. 83072 και MIS 6006858 που συγχρηματοδοτείται από Ευρωπαϊκούς (Ευρωπαϊκό Κοινωνικό Ταμείο) και Εθνικούς Πόρους μέσω του Ε.Π. «Δυτική Ελλάδα 2021-2027»\, με Επιστημονική Υπεύθυνη την Αξιότιμη Αντιπρύτανη Φοιτητικής Μέριμνας και Πολιτισμού κα. Ελ. Αλμπάνη\, διοργανώνει την Τρίτη\, 16 Δεκεμβρίου 2025  18:00-19:00 διαδικτυακό σεμινάριο με τίτλο \n«Ένα Πανεπιστήμιο για Όλους: Τεχνητή Νοημοσύνη\, Κοινωνικοποίηση και Προσβασιμότητα στη νέα εποχή μάθησης». \nΤο σεμινάριο απευθύνεται σε όλους/ες τους/τις φοιτητές/τριες του Πανεπιστημίου Πατρών ανεξαρτήτως τμήματος φοίτησης ή επιπέδου σπουδών. \nΜετά το τέλος του σεμιναρίου θα σταλεί βεβαίωση παρακολούθησης. (Η βεβαίωση θα σταλεί μέσα σε διάστημα δύο μηνών από την ημερομηνία διεξαγωγής του σεμιναρίου). \nΣκοπός του είναι να παρουσιάσει τους τρόπους με τους οποίους η σύγχρονη πανεπιστημιακή εμπειρία εξελίσσεται μέσα από τρεις ισότιμες και αλληλοσυμπληρούμενες θεματικές: τα νέα εργαλεία μάθησης που βασίζονται στην Τεχνητή Νοημοσύνη\, την κοινωνικοποίηση και την προσβασιμότητα. \nΟι συμμετέχοντες/ουσες θα έχουν την ευκαιρία να γνωρίσουν: \n    Νέα εργαλεία μάθησης που αξιοποιούν την Τεχνητή Νοημοσύνη. \n    Τη σημασία της κοινωνικοποίησης στο Πανεπιστήμιο ως βασικό στοιχείο συνεργασίας\, ψυχικής ευεξίας και προσωπικής ανάπτυξης. \n    Την προσβασιμότητα ως βασικό άξονα για τη διαμόρφωση ενός πανεπιστημιακού περιβάλλοντος χωρίς εμπόδια\, όπου κάθε φοιτητής/τρια μπορεί να αξιοποιήσει πλήρως το δυναμικό του/της. \nΘα υπάρχει ταυτόχρονη διερμηνεία στην Ελληνική Νοηματική Γλώσσα. \nΤην έναρξη του Σεμιναρίου θα πραγματοποιήσει η Αντιπρύτανις Φοιτητικής Μέριμνας και Πολιτισμού κα. Ελ. Αλμπάνη\, Αναπληρώτρια Καθηγήτρια του Τμήματος Νοσηλευτικής\, η οποία θα απευθύνει χαιρετισμό στους/στις συμμετέχοντες/ουσες. \nΟμιλητές/τριες \n    Ξένος Μιχαήλ\, Καθηγητής στο Τμήμα Μηχανικών Ηλεκτρονικών Υπολογιστών και Πληροφορικής \n    Τίτλος ομιλίας: Χρήση Εργαλείων ΑΙ στην Εκπαίδευση \n    Μαυρόγιαννη Θεώνη\, ΕΔΙΠ στο Τμήμα Επιστημών της Εκπαίδευσης και Κοινωνικής Εργασίας \n    Τίτλος ομιλίας: Ευκαιρίες Κοινωνικής Ζωής και Συμμετοχής στο Πανεπιστήμιο \n    Αναστασόπουλος Κωνσταντίνος\, Κλινικός Ψυχολόγος DEA – DESS εξωτερικός συνεργάτης Μονάδας Ισότιμης Πρόσβασης \n    Τίτλος ομιλίας:  Η προσβασιμότητα στην πράξη \n    Μηλιτσοπούλου Χρυσάνθη\, Μηχανικός Η/Υ και Πληροφορικής στη Μονάδα Ισότιμης Πρόσβασης του Πανεπιστημίου Πατρών \n    Τίτλος ομιλίας: Υπηρεσίες προσβασιμότητας στο Πανεπιστήμιο Πατρών \nΤο σεμινάριο θα πραγματοποιηθεί διαδικτυακά\, μέσω της πλατφόρμας τηλεδιάσκεψης Zoom. Για να εγγραφείτε και να παρακολουθήσετε το σεμινάριο\, ακολουθήστε τον παρακάτω σύνδεσμο: \nΣύνδεσμος παρακολούθησης σεμιναρίου \nΜετά την εγγραφή σας\, θα λάβετε ένα email επιβεβαίωσης που θα περιέχει πληροφορίες σχετικά με το πώς να παρακολουθήσετε το σεμινάριο. \nΓια οποιαδήποτε περαιτέρω πληροφορία ή διευκρίνιση\, μπορείτε να επικοινωνήσετε τηλεφωνικά στο 2610.969611 ή στέλνοντας email στο prosvasi.student@upatras.gr
URL:https://nurs.upatras.gr/event/%ce%b4%ce%b9%ce%b1%ce%b4%ce%b9%ce%ba%cf%84%cf%85%ce%b1%ce%ba%cf%8c-%cf%83%ce%b5%ce%bc%ce%b9%ce%bd%ce%ac%cf%81%ce%b9%ce%bf-%ce%ad%ce%bd%ce%b1-%cf%80%ce%b1%ce%bd%ce%b5%cf%80%ce%b9%cf%83%cf%84/
CATEGORIES:Συνέδρια - Σεμινάρια
END:VEVENT
END:VCALENDAR