BEGIN:VCALENDAR
VERSION:2.0
PRODID:-//Τμήμα Νοσηλευτικής του Πανεπιστημίου Πατρών - ECPv6.15.14//NONSGML v1.0//EN
CALSCALE:GREGORIAN
METHOD:PUBLISH
X-WR-CALNAME:Τμήμα Νοσηλευτικής του Πανεπιστημίου Πατρών
X-ORIGINAL-URL:https://nurs.upatras.gr
X-WR-CALDESC:Events for Τμήμα Νοσηλευτικής του Πανεπιστημίου Πατρών
REFRESH-INTERVAL;VALUE=DURATION:PT1H
X-Robots-Tag:noindex
X-PUBLISHED-TTL:PT1H
BEGIN:VTIMEZONE
TZID:UTC
BEGIN:STANDARD
TZOFFSETFROM:+0000
TZOFFSETTO:+0000
TZNAME:UTC
DTSTART:20240101T000000
END:STANDARD
END:VTIMEZONE
BEGIN:VEVENT
DTSTART;TZID=UTC:20250929T000000
DTEND;TZID=UTC:20251022T000000
DTSTAMP:20260423T184030
CREATED:20251002T111631Z
LAST-MODIFIED:20251006T051224Z
UID:31432-1759104000-1761091200@nurs.upatras.gr
SUMMARY:ΜΙΚΤΟ ΕΝΤΑΤΙΚΟ ΠΡΟΓΡΑΜΜΑ ΓΙΑ ΦΟΙΤΗΤΕΣ/ΡΙΕΣ ΝΟΣΗΛΕΥΤΙΚΗΣ -BLENDED INTENSIVE PROGRAMME (BIP)Building Roles and Interprofessional Communication (BRIC-BIP)-ΚΑΤΑΘΕΣΗ ΕΓΓΡΑΦΩΝ ΕΩΣ 19/10/2025-ΕΝΗΜΕΡΩΣΗ
DESCRIPTION:ΠΡΟΣΚΛΗΣΗ\nΚαλούνται όσοι φοιτητές ενδιαφέρονται να συμμετέχουν στο BLENDED INTENSIVE PROGRAMME (BIP): Building Roles and Interprofessional Communication που διοργανώνεται από τα Πανεπιστήμια University of Applied Sciences for Health Professions Upper Austria και Deggendorf Institute of Technology\, από 9/2-13/2/26 στο Linz (Αυστρία)\, να καταθέσουν τα παρακάτω έγγραφα στο συντονιστή του προγράμματος Erasmus (κο Μπακάλη) στο e-mail: nikosbakalis@upatras.gr\, μέχρι 19/10/25 (καταληκτική ημερομηνία):\n1.	Έγγραφο που να αποδεικνύει το επίπεδο γλωσσομάθειας στην αγγλική γλώσσα.\n2.	Πλήρες βιογραφικό σημείωμα (cv).\n3.	Αναλυτική βαθμολογία.\nΘα ακολουθήσει συνέντευξη σε ημέρα και ώρα που θα ενημερωθείτε.\nΝίκος Μπακάλης\, Καθηγητής\nΣυντονιστής Erasmus+ \nΑκολουθούν χρήσιμες πληροφορίες: \n–    Το πρόγραμμα διοργανώνεται στην αγγλική γλώσσα\n–    Χρηματοδοτείται από το πρόγραμμα Erasmus+\n–    Όσοι φοιτητές ενδιαφέρονται\, παρακαλώ να επικοινωνήσουν με τον συντονιστή Εrasmus του τμήματος\, κο Μπακάλη Νικόλαο (nikosbakalis@upatras.gr)/ Προθεσμία υποβολής υποψηφιοτήτων: 22 Οκτωβρίου 2025\n–    Αφού προταθούν από το πανεπιστήμιο προέλευσης\, οι φοιτητές πρέπει να συμπληρώσουν την ηλεκτρονική αίτηση έως τις 14 Νοεμβρίου 2025 (υπάρχει σύνδεσμος – link –  προς την ηλεκτρονική αίτηση για φοιτητές στο φυλλάδιο\, σελ 5) \nΕπισυνάπτονται αναλυτικές οδηγίεςInformation_participantsHEI_BIP_BRIC-BIP_2026_Austria_final (2)
URL:https://nurs.upatras.gr/event/%ce%bc%ce%b9%ce%ba%cf%84%ce%bf-%ce%b5%ce%bd%cf%84%ce%b1%cf%84%ce%b9%ce%ba%ce%bf-%cf%80%cf%81%ce%bf%ce%b3%cf%81%ce%b1%ce%bc%ce%bc%ce%b1-%ce%b3%ce%b9%ce%b1-%cf%86%ce%bf%ce%b9%cf%84%ce%b7%cf%84%ce%b5/
CATEGORIES:Εκδηλώσεις Τμήματος
END:VEVENT
BEGIN:VEVENT
DTSTART;TZID=UTC:20251007T000000
DTEND;TZID=UTC:20251011T000000
DTSTAMP:20260423T184030
CREATED:20251002T114705Z
LAST-MODIFIED:20251002T114719Z
UID:31435-1759795200-1760140800@nurs.upatras.gr
SUMMARY:ΦΕΣΤΙΒΑΛ ΥΠΟΔΟΧΗΣ ΠΡΩΤΟΕΤΩΝ ΦΟΙΤΗΤΩΝ/ΡΙΩΝ ΠΑΝΕΠΙΣΤΗΜΙΟΥ ΠΑΤΡΩΝ
DESCRIPTION:To Welcome to UP 2025 powered by ΔΕΗ διοργανώνεται  από τις 7 έως τις 11 Οκτωβρίου\, από το Πανεπιστήμιο Πατρών\, σε συνδιοργάνωση με την Περιφέρεια Δυτικής Ελλάδας και το Επιμελητήριο Αχαΐας\, σε συνεργασία με τους Δήμους Πατρέων\, Αγρινίου και Μεσολογγίου και με τη στήριξη του Υπουργείου Πολιτισμού. \nΓια περισσότερες πληροφορίες σχετικά με το Φεστιβάλ Υποδοχής Πρωτοετών Φοιτητών/τριών\, επισκεφθείτε την επίσημη ιστοσελίδα: https://welcometoup.upatras.gr/
URL:https://nurs.upatras.gr/event/%cf%86%ce%b5%cf%83%cf%84%ce%b9%ce%b2%ce%b1%ce%bb-%cf%85%cf%80%ce%bf%ce%b4%ce%bf%cf%87%ce%b7%cf%83-%cf%80%cf%81%cf%89%cf%84%ce%bf%ce%b5%cf%84%cf%89%ce%bd-%cf%86%ce%bf%ce%b9%cf%84%ce%b7%cf%84%cf%89/
CATEGORIES:Εκδηλώσεις Τμήματος
END:VEVENT
END:VCALENDAR