BEGIN:VCALENDAR
VERSION:2.0
PRODID:-//Τμήμα Νοσηλευτικής του Πανεπιστημίου Πατρών - ECPv6.15.14//NONSGML v1.0//EN
CALSCALE:GREGORIAN
METHOD:PUBLISH
X-WR-CALNAME:Τμήμα Νοσηλευτικής του Πανεπιστημίου Πατρών
X-ORIGINAL-URL:https://nurs.upatras.gr
X-WR-CALDESC:Events for Τμήμα Νοσηλευτικής του Πανεπιστημίου Πατρών
REFRESH-INTERVAL;VALUE=DURATION:PT1H
X-Robots-Tag:noindex
X-PUBLISHED-TTL:PT1H
BEGIN:VTIMEZONE
TZID:UTC
BEGIN:STANDARD
TZOFFSETFROM:+0000
TZOFFSETTO:+0000
TZNAME:UTC
DTSTART:20220101T000000
END:STANDARD
END:VTIMEZONE
BEGIN:VEVENT
DTSTART;VALUE=DATE:20230908
DTEND;VALUE=DATE:20230911
DTSTAMP:20260424T015344
CREATED:20230904T083854Z
LAST-MODIFIED:20230904T083854Z
UID:6698-1694131200-1694390399@nurs.upatras.gr
SUMMARY:ΚΑΡΔΙΟΛΟΓΙΚΟ ΣΥΝΕΔΡΙΟ 8 ΕΩΣ 10 ΣΕΠΤΕΜΒΡΙΟΥ 2023\, ΠΑΤΡΑ
DESCRIPTION:ΚΑΡΔΙΟΛΟΓΙΚΟ ΣΥΝΕΔΡΙΟ\, ΠΑΤΡΑ
URL:https://nurs.upatras.gr/event/%ce%ba%ce%b1%cf%81%ce%b4%ce%b9%ce%bf%ce%bb%ce%bf%ce%b3%ce%b9%ce%ba%ce%bf-%cf%83%cf%85%ce%bd%ce%b5%ce%b4%cf%81%ce%b9%ce%bf-8-%ce%b5%cf%89%cf%83-10-%cf%83%ce%b5%cf%80%cf%84%ce%b5%ce%bc%ce%b2%cf%81%ce%b9/
CATEGORIES:Συνέδρια - Σεμινάρια
END:VEVENT
END:VCALENDAR