BEGIN:VCALENDAR
VERSION:2.0
PRODID:-//Τμήμα Νοσηλευτικής του Πανεπιστημίου Πατρών - ECPv6.15.14//NONSGML v1.0//EN
CALSCALE:GREGORIAN
METHOD:PUBLISH
X-WR-CALNAME:Τμήμα Νοσηλευτικής του Πανεπιστημίου Πατρών
X-ORIGINAL-URL:https://nurs.upatras.gr
X-WR-CALDESC:Events for Τμήμα Νοσηλευτικής του Πανεπιστημίου Πατρών
REFRESH-INTERVAL;VALUE=DURATION:PT1H
X-Robots-Tag:noindex
X-PUBLISHED-TTL:PT1H
BEGIN:VTIMEZONE
TZID:UTC
BEGIN:STANDARD
TZOFFSETFROM:+0000
TZOFFSETTO:+0000
TZNAME:UTC
DTSTART:20220101T000000
END:STANDARD
END:VTIMEZONE
BEGIN:VEVENT
DTSTART;TZID=UTC:20230608T100000
DTEND;TZID=UTC:20230608T130000
DTSTAMP:20260423T033457
CREATED:20230606T065635Z
LAST-MODIFIED:20230606T065635Z
UID:6488-1686218400-1686229200@nurs.upatras.gr
SUMMARY:Αιμοδοσία (Πέμπτη 8/6/2023)-Φλέβα Ζωής
DESCRIPTION:1.Δελτίο Τύπου Αιμοδοσίας 08.06 \n2.Αφίσα Αιμοδοσίας 08.06
URL:https://nurs.upatras.gr/event/%ce%b1%ce%b9%ce%bc%ce%bf%ce%b4%ce%bf%cf%83%ce%af%ce%b1-%cf%80%ce%ad%ce%bc%cf%80%cf%84%ce%b7-8-6-2023-%cf%86%ce%bb%ce%ad%ce%b2%ce%b1-%ce%b6%cf%89%ce%ae%cf%82/
CATEGORIES:Εκδηλώσεις Τμήματος
END:VEVENT
END:VCALENDAR