BEGIN:VCALENDAR
VERSION:2.0
PRODID:-//Τμήμα Νοσηλευτικής του Πανεπιστημίου Πατρών - ECPv6.15.14//NONSGML v1.0//EN
CALSCALE:GREGORIAN
METHOD:PUBLISH
X-WR-CALNAME:Τμήμα Νοσηλευτικής του Πανεπιστημίου Πατρών
X-ORIGINAL-URL:https://nurs.upatras.gr
X-WR-CALDESC:Events for Τμήμα Νοσηλευτικής του Πανεπιστημίου Πατρών
REFRESH-INTERVAL;VALUE=DURATION:PT1H
X-Robots-Tag:noindex
X-PUBLISHED-TTL:PT1H
BEGIN:VTIMEZONE
TZID:UTC
BEGIN:STANDARD
TZOFFSETFROM:+0000
TZOFFSETTO:+0000
TZNAME:UTC
DTSTART:20220101T000000
END:STANDARD
END:VTIMEZONE
BEGIN:VEVENT
DTSTART;TZID=UTC:20230529T080000
DTEND;TZID=UTC:20230529T170000
DTSTAMP:20260423T163122
CREATED:20230529T071549Z
LAST-MODIFIED:20230529T071549Z
UID:6407-1685347200-1685379600@nurs.upatras.gr
SUMMARY:Διαδικτυακή Ομαδική Συμβουλευτική Επαγγελματικού Προσανατολισμού\, Τρίτη 30 Μαΐου 2023
DESCRIPTION:Διαδικτυακή Ομαδική Συμβουλευτική Επαγγελματικού Προσανατολισμού\, την Τρίτη 30 Μαΐου 2023\, 12.00μ.μ. έως 13.30μ.μ. \nΣτο πλαίσιο της Πράξης «Γραφείο Διασύνδεσης Πανεπιστημίου Πατρών»\, το Τμήμα Υποστήριξης Φοιτητών\, Απασχόλησης\, Σταδιοδρομίας και Διασύνδεσης\, της Διεύθυνσης Εκπαίδευσης και Έρευνας\, θα υλοποιήσει την Τρίτη 30 Μαΐου 2023\, 12.00μ.μ. έως 13.30μ.μ.\, Διαδικτυακή Ομαδική Συμβουλευτική Επαγγελματικού Προσανατολισμού με θέμα: «Αγορά Εργασίας και Επιτυχημένες Πρακτικές στη Νέα Ψηφιακή Εποχή» για τους φοιτητές/τριες και απόφοιτους/τες του Πανεπιστημίου Πατρών. \n΄΄Το έργο συγχρηματοδοτείται από την Ελλάδα και την Ευρωπαϊκή Ένωση (Ευρωπαϊκό Κοινωνικό Ταμείο) μέσω του Επιχειρησιακού Προγράμματος «Ανάπτυξη Ανθρώπινου Δυναμικού\, Εκπαίδευση και Δια Βίου Μάθηση».΄΄ \nΥπεύθυνος Έργου: κ. Δημήτριος Μούρτζης\, Καθηγητής/Αντιπρόεδρος Επιτροπής Ερευνών Π.Π. email: mourtzis@lms.mech.upatras.gr \nΙστοχώρος Επιχειρησιακού Προγράμματος https://empedu.gov.gr \nΣτόχος της δράσης είναι η τεκμηριωμένη πληροφόρηση και συμβουλευτική υποστήριξη των φοιτητών/αποφοίτων\, η ενδυνάμωση σε ζητήματα προσωπικής ανάπτυξης\, η καλλιέργεια γνώσεων και δεξιοτήτων στη νέα Ψηφιακή Εποχή και η προώθηση ευκαιριών απασχόλησης\, σταδιοδρομίας και ομαλής ένταξής τους στην αγορά εργασίας. \nΟι φοιτητές/τριες και απόφοιτοι/τες του Πανεπιστημίου Πατρών που θα  παρακολουθήσουν τη Διαδικτυακή Ομαδική Συμβουλευτική Επαγγελματικού Προσανατολισμού\, θα έχουν τη δυνατότητα να ενημερωθούν  σχετικά με την επίδραση της ψηφιακής τεχνολογίας στους κλάδους της επιστήμης\, για τη σύνταξη ενός ελκυστικού βιογραφικού\, τις τεχνικές μιας επιτυχημένης συνέντευξης καθώς και για τη χρήση της τεχνολογίας στην ανεύρεση θέσεων εργασίας. \nΟι συμμετέχοντες θα μπορούν να υποβάλλουν ερωτήματα για ζητήματα που τους απασχολούν όπως μεταξύ άλλων: κατάρτιση και δια βίου μάθηση\, μεταπτυχιακά προγράμματα σπουδών\, αξιοποίηση των νέων τεχνολογιών και των μέσων κοινωνικής δικτύωσης. \nΓια πληροφορίες μπορείτε να επικοινωνείτε με την κα T. Μιχαλακέα\, Αναπληρώτρια Προϊσταμένη του Τμήματος Υποστήριξης Φοιτητών Απασχόλησης\, Σταδιοδρομίας και Διασύνδεσης της Διεύθυνσης Εκπαίδευσης και Έρευνας\,  στο e-mail pmihalakea@upatras.gr \,  τηλ: 2610 969662. \nΕκδήλωση ενδιαφέροντος μπορείτε να υποβάλετε εδώ: \nhttps://www.cais.upatras.gr/form/ekdilosi-endiaferontos-gia-30-5 \nΜπορείτε να παρακολουθήσετε τη Συμβουλευτική Επαγγελματικού Προσανατολισμού επιλέγοντας τον παρακάτω σύνδεσμο εδώ: \n(https://upatras-gr.zoom.us/j/92009394405?pwd=dytheHIrMnFXSjNxdEdoWHdlVFhrdz09) \n 
URL:https://nurs.upatras.gr/event/%ce%b4%ce%b9%ce%b1%ce%b4%ce%b9%ce%ba%cf%84%cf%85%ce%b1%ce%ba%ce%ae-%ce%bf%ce%bc%ce%b1%ce%b4%ce%b9%ce%ba%ce%ae-%cf%83%cf%85%ce%bc%ce%b2%ce%bf%cf%85%ce%bb%ce%b5%cf%85%cf%84%ce%b9%ce%ba%ce%ae-%ce%b5/
CATEGORIES:Εκδηλώσεις Τμήματος
END:VEVENT
END:VCALENDAR