BEGIN:VCALENDAR
VERSION:2.0
PRODID:-//Τμήμα Νοσηλευτικής του Πανεπιστημίου Πατρών - ECPv6.15.14//NONSGML v1.0//EN
CALSCALE:GREGORIAN
METHOD:PUBLISH
X-WR-CALNAME:Τμήμα Νοσηλευτικής του Πανεπιστημίου Πατρών
X-ORIGINAL-URL:https://nurs.upatras.gr
X-WR-CALDESC:Events for Τμήμα Νοσηλευτικής του Πανεπιστημίου Πατρών
REFRESH-INTERVAL;VALUE=DURATION:PT1H
X-Robots-Tag:noindex
X-PUBLISHED-TTL:PT1H
BEGIN:VTIMEZONE
TZID:UTC
BEGIN:STANDARD
TZOFFSETFROM:+0000
TZOFFSETTO:+0000
TZNAME:UTC
DTSTART:20220101T000000
END:STANDARD
END:VTIMEZONE
BEGIN:VEVENT
DTSTART;TZID=UTC:20230121T080000
DTEND;TZID=UTC:20230204T170000
DTSTAMP:20260423T093220
CREATED:20231110T103152Z
LAST-MODIFIED:20231110T103152Z
UID:7439-1674288000-1675530000@nurs.upatras.gr
SUMMARY:Thinking and Teaching in a Changing World
DESCRIPTION:Dear Colleagues from University of Patras\, \nWe cordially invite your students to join our Winter School _Thinking and Teaching in a Changing World\, taking place at Palacký University Olomouc\, Czech Republic (21 January – 4 February 2024). \nApart from an exciting academic experience\, students will also have a\nchance to: \n· gain 4 ECTS credits \n· explore the historic\, beautiful cities of Olomouc\, Prague\,\nand Vienna \n· taste the delicious local cuisine \n· experience new cultures \n· make new friends from around the world \n· and much\, much more! \nYour students are welcome to join our ZOOM Info Presentation + Q&A session on 16 and 22 November (links are below). \nZOOM Info Presentation links: \na) Time: Nov 16\, 2023 03:00 PM Prague (UTC+01:00) \nJoin Zoom Meeting \nhttps://cesnet.zoom.us/j/96414828787 \nMeeting ID: 964 1482 8787 \nb) Time: Nov 22\, 2023 09:00 AM Prague (UTC+01:00) \nJoin Zoom Meeting \nhttps://cesnet.zoom.us/j/92664106193 \nMeeting ID: 926 6410 6193
URL:https://nurs.upatras.gr/event/thinking-and-teaching-in-a-changing-world/
LOCATION:Palacký University Olomouc\, Czech Republic\, Τσεχία
END:VEVENT
END:VCALENDAR